Workbook
Name _15A: [1]금액내역서!$D$3:$D$10
Name _R10㎝: #REF!
Name _R12㎝: #REF!
Name _R15㎝: #REF!
Name _R18㎝: #REF!
Name _R20㎝: #REF!
Name _R25㎝: #REF!
Name _R30㎝: #REF!
Name _R4㎝이하: #REF!
Name _R5㎝: #REF!
Name _R6㎝: #REF!
Name _R7㎝: #REF!
Name _R8㎝: #REF!
Name B10㎝: #REF!
Name B12㎝: #REF!
Name B15㎝: #REF!
Name B18㎝: #REF!
Name B20㎝: #REF!
Name B25㎝: #REF!
Name B30㎝: #REF!
Name B4㎝이하: #REF!
Name B5㎝: #REF!
Name B6㎝: #REF!
Name B7㎝: #REF!
Name B8㎝: #REF!
Name H1.0m이하: #REF!
Name H1.2m: #REF!
Name H1.5m: #REF!
Name H1.8m: #REF!
Name H2.0m: #REF!
Name H2.5m: #REF!
Name H3.0m: #REF!
Name H3.5m: #REF!
Name H4.0m: #REF!
Name H4.5m: #REF!
Name H5.0m: #REF!
Name 관0.3_0.7: #REF!
Name 관0.3m미만: #REF!
Name 관0.8_1.1: #REF!
Name 관1.2_1.5: #REF!
Name ㅁ459: [2]일위대가!#REF!
Name 방부B형: [2]일위대가!#REF!
Name 방부대형: [2]일위대가!#REF!
Name 방부이각: [2]일위대가!#REF!
Name 이각A형: [2]일위대가!#REF!
Name 이각B형: [3]일위대가!#REF!
Name 잔토처리____________인력: [2]일위대가!#REF!
Name ㅠ121: #REF!

Sheet 갑지
A3: 설 계 서
C5: 공 사 명 : | G5: 2026년 위성기준점 설치 기초공사
D6: 구 분 | M6: 금 액 | AB6: 비 고
D7: 총 공 사 비 | M7: 265000000
D8: 도 급 비 | F8: 공 사 원 가 | M8: 240909091
F9: 부 가 가 치 세 | M9: 24090909
F10: 계 | M10: 265000000
D12: ▣ 공 사 개 요
D13: ㅇ 시 추 조 사 | L13: : | M13: 1 식
D14: ㅇ 시 추 공 사 | L14: : | M14: 1 식
D15: ㅇ 지지대 기초공사 | L15: : | M15: 1 식
D16: ㅇ 필라 및 함체 설치 | L16: : | M16: 1 식
D17: ㅇ 보호펜스 및 안내판설치 | L17: : | M17: 1 식

Sheet 총괄
A1: 총 괄 내 역 서
A2: 공사명: | B2: =갑지!G5 -> 2026년 위성기준점 설치 기초공사
A3: 명 칭 | C3: 규 격 | D3: 계 | E3: 재 료 비 | F3: 노 무 비 | G3: 경 비 | H3: 비 고
A4: 1) | B4: =내역서!A5 -> 1. 시추조사
A5: 2) | B5: =내역서!A6 -> 2. 시추공사
A6: 3) | B6: =내역서!A7 -> 3. 지지대 기초공사
A7: 4) | B7: =내역서!A8 -> 4. 필라 및 함체 설치
A8: 5) | B8: =내역서!A9 -> 5. 보호펜스 및 안내판 설치
A9: 6) | B9: =내역서!A10 -> 6. 부대공(도선비)
A10: 7) | B10: 7. 철근-강관 용접
B11: 계
A12: 1 | B12: 간 접 노 무 비 | C12: (직접노무비) *16.5%
A13: 2 | B13: 산 재 보 험 료 | C13: (직접노무비+간접노무비)*3.56%
A14: 3 | B14: 고 용 보 험 료 | C14: (직접노무비+간접노무비)*1.01%
A15: 4 | B15: 건 강 보 험 료 | C15: (직접노무비)*3.595%
A16: 5 | B16: 노인요양보험료 | C16: (건강보험료)*13.14%
A17: 6 | B17: 연 금 보 험 료 | C17: (직접노무비)*4.75%
A18: 7 | B18: 퇴직공제부금비 | C18: (직접노무비)*2.3%
A19: 8 | B19: 산업안전보건관리비 | C19: (재료비+직접노무비)*3.15%
A20: 9 | B20: 안 전 관 리 비 | C20: (내역서) 시트 참고
A21: 10 | B21: 환 경 보 전 비 | C21: (직접공사비)*0.8%
A22: 11 | B22: 기 타 경 비 | C22: (재료비+노무비)*5.2%
A23: 12 | B23: 건설기계대여대금 | C23: (직접공사비)*0.51%
... A26: 15 | B26: 건설하도급대금지급보증서발급수수료 | C26: (직접공사비)*0%
A27: 16 | B27: 순공사원가
A28: 17 | B28: 일 반 관 리 비 | C28: 순공사원가*6%
A29: 18 | B29: 소 계
A30: 19 | B30: 이 윤 | C30: (순공사원가+일반관리비-재료비)*9.3%
A31: 20 | B31: 공 급 가 액
A32: 21 | B32: 부 가 가 치 세 | C32: 공급가액의 10%
A33: 22 | B33: 총 공 사 비 | C33: 백원단위 이하 절사

Sheet 원가계산서
A1: 원 가 계 산 서
A2: =총괄!A2 -> 공사명: | C2: =총괄!B2 -> 2026년 위성기준점 설치 기초공사
A3: 구분 비목 | D3: 금액 | E3: 구성비(%) | F3: 비고
A4: 순 공 사 원 가 | B4: 재 료 비 | C4: 재료비
C5: 자재비
C6: 작업설 부산물등(△)
C7: 소계
B8: 노 무 비 | C8: 직접노무비
C9: 간접노무비 | F9: (직노)*16.5%
C10: 소계
B11: 경 비 | C11: 기계경비
C12: 산재보험료 | F12: (직노+간노)*3.56%
C13: 고용보험료 | F13: (직노+간노)*1.01%
C14: 건강보험료 | F14: (직노)*3.595%
C15: 노인장기요양보험료 | F15: (건강보험료)*13.14%
C16: 연금보험료 | F16: (직노)*4.75%
C17: 퇴직공제부금 | F17: (직노)*2.3%
C18: 산업안전보건관리비 | F18: (재료+직노)*3.15%
C19: 안전관리비
C20: 환경보전비 | F20: (직접공사비)*0.8%
C21: 기타경비 | F21: (재료+노무)*5.2%
C22: 건설기계대여대금 | F22: (직공)*0.51%
C23: 품질 관리비
C24: 품질관리 활동비
C25: 소계
A26: 일반관리비 | F26: (순공사원가)*6.0%
A27: 이윤 | F27: (순공사원가+일반관리비-재료비)*9.3%
A28: 공급가액
A29: 부가가치세 | F29: (공급가액)*10%
A30: 도급공사비
A31: 총공사비 | F31: 백원단위 이하 절사

Sheet 내역서
A1: 내역서
A2: 공 종 명 | B2: 규 격 | C2: 수량 | D2: 단위 | E2: 재 료 비 | G2: 노 무 비 | I2: 경 비 | K2: 합 계 | M2: 비 고
E3: 단 가 | F3: 금 액 | G3: 단 가 | H3: 금 액 | I3: 단 가 | J3: 금 액 | K3: 단 가 | L3: 금 액
A4: 2026년 위성기준점 설치 기초공사 | C4: 1 | D4: 식
A5: 1. 시추조사 | C5: 1 | D5: 식
A6: 2. 시추공사 | C6: 1 | D6: 식
A7: 3. 지지대 기초공사 | C7: 1 | D7: 식
A8: 4. 필라 및 함체 설치 | C8: 1 | D8: 식
A9: 5. 보호펜스 및 안내판 설치 | C9: 1 | D9: 식
A10: 6. 부대공(도선비) | C10: 1 | D10: 식
A11: 7. 철근-강관 용접 | C11: 1 | D11: 식
A12: 순공사비계 | C12: 1 | D12: 식
A13: 1. 간접 노무비(직노) | B13: 0.165 | C13: 1 | D13: 식
A14: 2. 산재보험료(직노+간노) | B14: 0.0356 | C14: 1 | D14: 식
A15: 3. 고용보험료(직노+간노) | B15: 0.0101 | C15: 1 | D15: 식
A16: 4. 건강보험료(직노) | B16: 0.03595 | C16: 1 | D16: 식
A17: 5. 연금보험료(직노) | B17: 0.1314 | C17: 1 | D17: 식
A18: 6. 노인장기요양보험료(건강보험료의) | B18: 0.0475 | C18: 1 | D18: 식
A19: 7. 퇴직공제부금비(직노) | B19: 0.023 | D19: 식
A20: 8. 산업안전보건관리비 | B20: 0.0315 | C20: 1 | D20: 식
A21: 9. 안전관리비 | B21: (내역서) 시트 참고 | C21: 1 | D21: 식
A22: 10. 환경보전비 | B22: 0.008 | C22: 1 | D22: 식
A23: 11. 기타경비(재료+직노+간노) | B23: 0.052 | C23: 1 | D23: 식
A24: 12. 건설기계대여대금 | B24: 0.0051 | C24: 1 | D24: 식
A25: 13. 품질관리비 | C25: 1 | D25: 식
A26: 14. 품질관리 활동비 | B26: 품질관리 인건비 및 품질시험비의 1% | C26: 1 | D26: 식
A27: 순공사원가
A28: 15. 일반관리비(직접공사비~기타 | B28: 0.06 | C28: 1 | D28: 식
A29: 16. 이윤(노무+경비+일반) | B29: 0.094176025 | C29: 1 | D29: 식
A30: 공 급 가 액
A31: 부 가 가 치 세 | B31: (공급가액)*10 % | C31: 1 | D31: 식
A32: ⊙ 총 공 사 비 | C32: 1 | D32: 식
A33: 2026년 위성기준점 설치 기초공사
A35: 1. 시추조사 | B35: 총 5개소(도서1, 육상4) | C35: 1 | D35: 식
A36: 천공(점토층) | B36: NX | C36: 7 | D36: m
A37: 천공(모래층) | B37: NX | C37: 7 | D37: m
A38: 천공(자갈층) | B38: NX | C38: 7 | D38: m
A39: 천공(풍화암) | B39: NX | C39: 7 | D39: m
A40: 천공(연암) | B40: NX | C40: 11 | D40: m
A41: 시추조사 장비 운반 | B41: 상하차 포함(왕복) | C41: 5 | D41: 회
A42: 기계기구 설치 | C42: 5 | D42: 개소
A43: 시료상자 | B43: 플라스틱상자 | C43: 5 | D43: 개
A45: 2. 시추공사 | B45: 총 5개소(도서1, 육상4) | C45: 1 | D45: 식
A46: 대구경 천공(토사층) | B46: 350㎜ | C46: =1*1+4*3 -> 13 | D46: m
A47: 대구경 천공(모래층) | B47: 350㎜ | C47: =1*1+4*3 -> 13 | D47: m
A48: 대구경 천공(자갈층) | B48: 350㎜ | C48: =1*1+4*3 -> 13 | D48: m
A49: 대구경 천공(풍화암) | B49: 250㎜ | C49: =1*1+4*3 -> 13 | D49: m
A50: 대구경 천공(연암) | B50: 150㎜ | C50: =1*2+4*3 -> 14 | D50: m
A51: 케이싱설치(1차) | B51: 300㎜ 백관 | C51: =1*2+4*9 -> 38 | D51: m
A52: 케이싱설치(2차) | B52: 200㎜ 백관 | C52: =1*4+4*12 -> 52 | D52: m
A53: 케이싱설치(3차) | B53: 100㎜ 백관 | C53: =1*6+4*15 -> 66 | D53: m
A54: 에어써징 | C54: =1*6+4*15 -> 66 | D54: m
A55: 방수시멘트 그라우팅(1차) | B55: 350㎜ | C55: =1*3+4*9 -> 39 | D55: m
A56: 방수시멘트 그라우팅(2차) | B56: 250㎜ | C56: =1*1+4*3 -> 13 | D56: m
A57: 방수시멘트 그라우팅(3차) | B57: 150㎜ | C57: =1*2+4*3 -> 14 | D57: m
A59: 3. 지지대 기초공사 | B59: 5개소 | C59: 1 | D59: 식
A60: 지지대 기초공사 | B60: 1개소 | C60: 5 | D60: 개소
A62: 4. 필라 및 함체 설치 | B62: 5개소 | C62: 1 | D62: 식
A63: 필라 및 함체 설치 | B63: 1개소 | C63: 5 | D63: 개소
A65: 5. 보호펜스 및 안내판 설치 | B65: 5개소 | C65: 1 | D65: 식
A66: 보호펜스 및 안내판 설치 | B66: 1개소 | C66: 5 | D66: 개소
A68: 6. 도선비 | B68: 1개소 | C68: 1 | D68: 식
A69: 여수 연도 해상운송 | B69: 1개소 | C69: 1 | D69: 식
A71: 7. 철근-강관 용접 | C71: 1 | D71: 식
A72: 철근-강관 용접 | B72: 1개소 | C72: 5 | D72: 개소
A74: 8. 안전관리비 | C74: 1 | D74: 식
A75: 라바콘 | B75: 700*380*380 | C75: 8 | D75: 개
A76: 교통신호수 | B76: 2인*5일 | C76: 10 | D76: 인
A78: 9. 품질관리비 | C78: 1 | D78: 식
A79: 품질시험비 | C79: 1 | D79: 식
A81: 10. 품질관리 활동비 | C81: 1 | D81: 식
A82: 품질검사비 | B82: 품질관리 인건비 및 품질시험비의 1% | C82: 1 | D82: 식

Sheet 일위대가목록
A1: 일위대가목록
A2: 공 종 명 | B2: 규 격 | C2: 수 량 | D2: 단 위 | E2: 재 료 비 | F2: 노 무 비 | G2: 경 비 | H2: 합 계 | I2: 비 고 | T2: 재료비 | U2: 노무비 | V2: 경 비 | W2: 합 계
A3: No.1 시추조사 | B3: 1개소 | C3: 1 | D3: 개소
A4: No.2 시추공사 | B4: 1개소 | C4: 1 | D4: 개소
A5: No.3 지지대 기초공사 | B5: 1개소 | C5: 1 | D5: 개소
A6: No.4 필라 및 함체 설치 | B6: 1개소 | C6: 1 | D6: 개소
A7: No.5 보호펜스 및 안내판 설치 | B7: 1개소 | C7: 1 | D7: 개소
A8: No.6 품질시험비 | C8: 1 | D8: 식
A9: No.7 품질관리 활동비 | B9: 품질관리 인건비 및 품질시험비의 1% | C9: 1 | D9: 식
A10: No.8 시추조사 장비 운반 | B10: 상하차 포함(왕복) | C10: 1 | D10: 회
A11: No.9 기계기구 설치 | C11: 1 | D11: 개소
A12: No.10 천공(점토층) | B12: NX | C12: 1 | D12: m
A13: No.11 천공(모래층) | B13: NX | C13: 1 | D13: m
A14: No.12 천공(자갈층) | B14: NX | C14: 1 | D14: m
A15: No.13 천공(풍화암) | B15: NX | C15: 1 | D15: m
A16: No.14 천공(연암) | B16: NX | C16: 1 | D16: m
A17: No.15 대구경 천공(토사층) | B17: 350㎜ | C17: 1 | D17: m
A18: No.16 대구경 천공(모래층) | B18: 350㎜ | C18: 1 | D18: m
A19: No.17 대구경 천공(자갈층) | B19: 350㎜ | C19: 1 | D19: m
A20: No.18 대구경 천공(풍화암) | B20: 250㎜ | C20: 1 | D20: m
A21: No.19 대구경 천공(연암) | B21: 150㎜ | C21: 1 | D21: m
A22: No.20 케이싱설치(1차) | B22: 300㎜ 백관 | C22: 1 | D22: m
A23: No.21 케이싱설치(2차) | B23: 200㎜ 백관 | C23: 1 | D23: m
A24: No.22 케이싱설치(3차) | B24: 100㎜ 백관 | C24: 1 | D24: m
A25: No.23 에어써징 | C25: 1 | D25: m
A26: No.24 방수시멘트 그라우팅(1차) | B26: 350㎜ | C26: 1 | D26: m
A27: No.25 방수시멘트 그라우팅(2차) | B27: 250㎜ | C27: 1 | D27: m
A28: No.26 방수시멘트 그라우팅(3차) | B28: 150㎜ | C28: 1 | D28: m
A29: No.27 인력 터파기(호박돌섞인토사) | B29: 0~1m | C29: 1 | D29: m3
A30: No.28 합판 거푸집 설치 | B30: 1회 사용 | C30: 1 | D30: m2
A31: No.29 콘크리트 타설 | B31: 소형구조물 | C31: 1 | D31: m3
A32: No.30 인력 되메우기 | C32: 1 | D32: m3
A33: No.31 잔토처리 | C33: 1 | D33: m3
A34: No.32 필라 설치 | C34: 1 | D34: 기
A35: No.33 함체 설치 | C35: 1 | D35: 기
A36: No.34 보호펜스 설치 | C36: 2 | D36: 경간
A37: No.35 안내판 설치 | C37: 1 | D37: 식
A38: No.36 연도 도선비 | C38: 1 | D38: 식
A39: No.37 철근-강관 용접 | B39: 고장력철근, D25(25.4mm, 1본(8m) 기준) | C39: 1 | D39: 식

Sheet 일위대가_산근
A1: 일위대가_산근
A2: 산 출 근 거 | B2: 재 료 비 | C2: 노 무 비 | D2: 경 비 | E2: 합 계 | F2: 비 고
AA3: ※ 노란색 셀을 수정하고 툴바에서 수식 > 시트계산을 하면
AA4: 엑셀 수식이 적용됩니다. (단축키 F9 키)

Sheet 노임
A1: 노임
A2: 명 칭 | B2: 규 격 | C2: 단 위 | D2: 할증(%) | E2: 단 가 | F2: 비 고
A3: 보통인부 | B3: 일반공사 직종 | C3: 인 | D3: 0 | E3: 172068 | H3: L001010101000002 | I3: L001010101000002 | K3: 2026 상반기 적용 건설업 임금실태 조사 보고서(시중노임단가)
A4: 특별인부 | B4: 일반공사 직종 | C4: 인 | D4: 0 | E4: 226122 | H4: L001010101000003 | I4: L001010101000003 | K4: 2026 상반기 적용 건설업 임금실태 조사 보고서(시중노임단가)
A5: 형틀목공 | B5: 일반공사 직종 | C5: 인 | D5: 0 | E5: 275790 | H5: L001010101000007 | I5: L001010101000007 | K5: 2026 상반기 적용 건설업 임금실태 조사 보고서(시중노임단가)
A6: 콘크리트공 | B6: 일반공사 직종 | C6: 인 | D6: 0 | E6: 273540 | H6: L001010101000013 | I6: L001010101000013 | K6: 2026 상반기 적용 건설업 임금실태 조사 보고서(시중노임단가)
A7: 보링공 | B7: 일반공사 직종 | C7: 인 | D7: 0 | E7: 232562 | H7: L001010101000014 | I7: L001010101000014 | K7: 2026 상반기 적용 건설업 임금실태 조사 보고서(시중노임단가)
A8: 화물차운전사 | B8: 일반공사 직종 | C8: 인 | D8: 0 | E8: 238936 | H8: L001010101000049 | I8: L001010101000049 | K8: 2026 상반기 적용 건설업 임금실태 조사 보고서(시중노임단가)
A9: 중급기술자 | B9: 건설부분 | C9: 인 | D9: 0 | E9: 295138 | H9: L001020101000121 | I9: L001020101000121 | K9: 2025 엔지니어링업체 임금실태조사결과 공표(26.1.1. 적용)
A10: 중급숙련기술자 | B10: 건설부분 | C10: 인 | D10: 0 | E10: 250087 | H10: L001020101000124 | I10: L001020101000124 | K10: 2025 엔지니어링업체 임금실태조사결과 공표(26.1.1. 적용)
A11: 초급품질관리기술인 | B11: 일반공사 직종 | C11: 인 | D11: 0 | E11: 149081 | K11: 2026 상반기 적용 건설업 임금실태 조사 보고서(시중노임단가)
A12: 용접공 | B12: 일반공사 직종 | C12: 인 | D12: 0 | E12: 282536 | K12: 2026 상반기 적용 건설업 임금실태 조사 보고서(시중노임단가)

Sheet 경비
A1: 경비
A2: 명 칭 | B2: 규 격 | C2: 단 위 | D2: 재 료 비 | E2: 노 무 비 | F2: 경 비 | G2: 합 계 | H2: 비 고
A3: 자주식 유압시추기 손료 | B3: 54HP(40KW) | C3: HR | D3: 0 | E3: 0 | F3: 28041 | G3: =D3+E3+F3 -> 28041 | H3: 2026년 지반조사 표준품셈 | J3: G01000100
A4: 고성능 착정기 손료 | B4: 고성능착정기 | C4: HR | D4: 0 | E4: 0 | F4: 157250 | G4: =D4+E4+F4 -> 157250 | H4: 2026년 지반조사 표준품셈 | J4: G01000200
A5: 공기압축기 손료 | B5: 공기압축기 | C5: HR | F5: 5883 | G5: =D5+E5+F5 -> 5883 | H5: 2026년 지반조사 표준품셈
A6: 절단기 손료 | B6: 4인치 | C6: HR | F6: 394 | G6: =F6+D6+E6 -> 394 | H6: 2026년 건설기계의 기계경비 산출표
A7: 굳은 콘크리트(압축강도) | B7: KS F 2405 | C7: 식 | D7: 0 | E7: 0 | F7: 15100 | G7: =D7+E7+F7 -> 15100 | H7: 품질시험수수료 고시 2026(충남) | J7: G01000320
A8: 콘크리트용 골재(굵은 골재의 마모율) | B8: KS F 2508 | C8: 식 | D8: 0 | E8: 0 | F8: 45200 | G8: =D8+E8+F8 -> 45200 | H8: 품질시험수수료 고시 2026(충남) | J8: G01000330
A9: 부대경비 | B9: 논산, 태안 | C9: 식 | D9: 0 | E9: 0 | F9: =215100+197600 -> 412700 | G9: =D9+E9+F9 -> 412700 | H9: 품질시험수수료 고시 2026(충남) | J9: G01000340
A10: 굳지 아니한 콘크리트(래미콘포함) | B10: 압축강도(KS F 2405) | C10: 식 | D10: 0 | E10: 0 | F10: 15100 | G10: =D10+E10+F10 -> 15100 | H10: 품질시험수수료 고시 2026(전남) | J10: G01000320
A11: 콘크리트용 골재(굵은 골재의 마모율) | B11: KS F 2508 | C11: 식 | D11: 0 | E11: 0 | F11: 45100 | G11: =D11+E11+F11 -> 45100 | H11: 품질시험수수료 고시 2026(전남) | J11: G01000330
A12: 부대경비(출장비, 선박비) | B12: 여수 연도 | C12: 식 | D12: 0 | E12: 0 | F12: 282300 | G12: =D12+E12+F12 -> 282300 | H12: 품질시험수수료 고시 2026(전남) | J12: G01000340
A13: 콘크리트시험(압축강도) | B13: KS F 2405 | C13: 식 | D13: 0 | E13: 0 | F13: 15000 | G13: =D13+E13+F13 -> 15000 | H13: 품질시험수수료 고시 2026(경북) | J13: G01000350
A14: 골재시험(마모시험 | B14: KS F 2508 | C14: 식 | D14: 0 | E14: 0 | F14: 51000 | G14: =D14+E14+F14 -> 51000 | H14: 품질시험수수료 고시 2026(경북) | J14: G01000360
A15: 부대경비 | B15: 안동 | C15: 식 | F15: 188000 | G15: =D15+E15+F15 -> 188000 | H15: 품질시험수수료 고시 2026(경북) | J15: G01000380
A16: 굳지 아니한 콘크리트(래미콘포함) | B16: 압축강도(KS F 2405) | C16: 식 | D16: 0 | E16: 0 | F16: 14600 | G16: =D16+E16+F16 -> 14600 | H16: 품질시험수수료 고시 2026(강원) | J16: G01000390
A17: 콘크리트용 골재(굵은 골재의 마모율) | B17: KS F 2508 | C17: 식 | D17: 0 | E17: 0 | F17: 43700 | G17: =D17+E17+F17 -> 43700 | H17: 품질시험수수료 고시 2026(강원) | J17: G01000400
A18: 부대경비 | B18: 고성 | C18: 식 | F18: 188800 | G18: =D18+E18+F18 -> 188800 | H18: 품질시험수수료 고시 2026(강원) | J18: G01000410
J19: G01000420
J20: G01000430
J21: G01000440
J22: G01000450

Sheet 전역변수
A1: 전역변수
A2: 변 수 명 | B2: 형 식 | C2: 값 | D2: 비 고 | E2: 적용단위

Sheet 중기전역변수
A1: 중기전역변수
A2: 변 수 명 | B2: 형 식 | C2: 값 | D2: 비 고
A3: QCODE | B3: 문자 | C3: 100000000002
A4: QUS2WON | B4: 숫자 | C4: 1157 | D4: 환율(장비가격10만불이하)
A5: QUS2WON1 | B5: 숫자 | C5: 1157 | D5: 환율(장비가격10만불이상)
A6: QYEN2WON | B6: 숫자 | C6: 0 | D6: 환율(엔화)
A7: QDM2WON | B7: 숫자 | C7: 0 | D7: 환율(마르크화)
A8: QSDR2WON | B8: 숫자 | C8: 0 | D8: 환율(IMF특별인출권)
A9: QECU2WON | B9: 숫자 | C9: 0 | D9: 환율(유로화)
A10: QEQTY1 | B10: 문자 | C10: (SANG + JUNG + KWAN) * 10^-4 | D10: 중기주간경비산출계수
A11: QEQTY2 | B11: 문자 | C11: (SANG + JUNG + KWAN) * 10^-4 | D11: 중기야간경비산출계수
A12: QEQTY3 | B12: 문자 | C12: (SANG + JUNG + KWAN) * 10^-4 | D12: 중기주야간경비산출계수
A13: QEINC2 | B13: 숫자 | C13: 1.25 | D13: 중기야간할증계수
A14: QEINC3 | B14: 숫자 | C14: 1.071 | D14: 중기주야간할증계수
A15: QDECPEQ | B15: 문자 | C15: 0 | D15: 경비단가소숫점
A16: QDECCEQ | B16: 문자 | C16: 1 | D16: 경비금액소숫점
A17: QDECEQ | B17: 문자 | C17: 0 | D17: 경비계금액소숫점
A18: QH1 | B18: 문자 | C18: =25/20 * 16/12 * 1/8 -> 0.20833333 | D18: 시간당노임산출계수(일반구간)
A19: QH2 | B19: 문자 | C19: =25/20 * 16/12 * 1/8 -> 0.20833333 | D19: 시간당노임산출계수(터널구간)
A20: QH21 | B20: 문자 | C20: =25/20 * 16/12 * 1/8 -> 0.20833333 | D20: 시간당노임산출계수(장대터널)
A21: QH31 | B21: 문자 | C21: =25/20 * 16/12 * 1/8 -> 0.20833333 | D21: 시간당노임산출계수(해상장비:펌프준설선)
A22: QH32 | B22: 문자 | C22: =25/20 * 16/12 * 1/8 -> 0.20833333 | D22: 시간당노임산출계수(해상장비:GRAB준설선)
A23: QH33 | B23: 문자 | C23: =25/20 * 16/12 * 1/8 -> 0.20833333 | D23: 시간당노임산출계수(해상장비:버켓준설선)
A24: QLINC1 | B24: 숫자 | C24: 1 | D24: 노임할증계수(일반구간:주간)
A25: QLINC2 | B25: 숫자 | C25: 1.5 | D25: 노임할증계수(일반구간:야간)
A26: QLINC3 | B26: 숫자 | C26: 1.16 | D26: 노임할증계수(일반구간:주야간)
A27: QLINCA | B27: 숫자 | C27: 1.6 | D27: 노임할증계수(터널구간:주간)
A28: QLINCB | B28: 숫자 | C28: 1.6 | D28: 노임할증계수(터널구간:야간)
A29: QLINCC | B29: 숫자 | C29: 1.6 | D29: 노임할증계수(터널구간:주야간)
A30: QLINCD | B30: 숫자 | C30: 1.94 | D30: 노임할증계수(장대터널:주간)
A31: QLINCE | B31: 숫자 | C31: 1.94 | D31: 노임할증계수(장대터널:야간)
A32: QLINCF | B32: 숫자 | C32: 1.94 | D32: 노임할증계수(장대터널:주야간)
A33: QLINCX | B33: 숫자 | C33: 1 | D33: 노임할증계수(해상장비:주간)
A34: QLINCY | B34: 숫자 | C34: 1 | D34: 노임할증계수(해상장비:야간)
A35: QLINCZ | B35: 숫자 | C35: 1 | D35: 노임할증계수(해상장비:주야간)
A36: QDECPLA | B36: 문자 | C36: 1 | D36: 노임단가소숫점
A37: QDECCLA | B37: 문자 | C37: 1 | D37: 노임금액소숫점
A38: QDECLA | B38: 문자 | C38: 0 | D38: 노임계금액소숫점
A39: QMINC2 | B39: 숫자 | C39: 1.11 | D39: 재료비할증계수(야간)
A40: QMINC3 | B40: 숫자 | C40: 1.12 | D40: 재료비할증계수(주야간)
A41: QDECPMA | B41: 문자 | C41: 2 | D41: 재료비단가소숫점
A42: QDECCMA | B42: 문자 | C42: 1 | D42: 재료비금액소숫점
A43: QDECMA | B43: 문자 | C43: 0 | D43: 재료비계금액소숫점
A44: QVER | B44: 문자 | C44: 0
A45: QSABUN | B45: 문자
A46: QDATE | B46: 문자
A47: QUS2WON2 | B47: 숫자 | C47: 0 | D47: 환율(사용자 환율1)
A48: QUS2WON3 | B48: 숫자 | C48: 0 | D48: 환율(사용자 환율2)
A49: QOPtimeDecCnt | B49: 문자 | C49: 7
A50: QOPtimeDecOp | B50: 문자 | C50: 0
