Workbook
Name aaa: BlankMacro1
Name aaa: BlankMacro1
Name aaa: BlankMacro1
Name b: #REF!
Name DM: [1]심사계산!$F$88
Name PRINT: #REF!
Name REF_6: #REF!
Name REF_F: #REF!
Name REF_G: #REF!
Name REF_H: #REF!
Name REF_J: #REF!
Name REF_L: #REF!
Name REF_O: #REF!
Name REF_Q: #REF!
Name SFR: [1]심사계산!$D$88
Name 가: #REF!
Name 가2: #REF!
Name 가3: #REF!
Name 가4: #REF!
Name 가5: #REF!
Name 가6: #REF!
Name 가스구조일수: #REF!
Name 가스구조일수1: #REF!
Name 가스시설종수: #REF!
Name 가스연장: #REF!
Name 가스작업연장: #REF!
Name 가스재구조일수: #REF!
Name 가스재구조화비율: #REF!
Name 가스정위치작업일수: #REF!
Name 가스조사연장: #REF!
Name 가중치: #REF!
Name 고급기능: [2]각종단가!#REF!
Name 고급기술: [1]심사물량!$C$4
Name 고급엔지니어링: [2]각종단가!#REF!
Name 고급여비: [2]각종단가!#REF!
Name 고기: #REF!
Name 고능: #REF!
Name 공단: #REF!
Name 공보: #REF!
Name 공전: #REF!
Name 구조작업량: #REF!
Name 구조지형계수: #REF!
Name 구조화일수: #REF!
Name 구축비율: #REF!
Name 구축비율2: #REF!
Name 규모계수: #REF!
Name 근로자계수: #REF!
Name 금액: #REF!
Name 기술료율: #REF!
Name 기술사: [2]각종단가!#REF!
Name 기종계수: #REF!
Name 기초인건비: #REF!
Name 기타구조일수: #REF!
Name 기타정위치작업일수: #REF!
Name 기타조사연장: #REF!
Name 기타탐사연장: #REF!
Name 나: #REF!
Name 나2: #REF!
Name 나3: #REF!
Name 나4: #REF!

Sheet 설계
A1: 품 명 | B1: 규 격 | C1: 단 위 | D1: 수 량 | E1: 단 가 | F1: 금 액 | G1: 비 고
A2: 2026년 중력측량(남부지구)
A3: ○ 중력측량(총괄표) | F3: 56000000
A4: 1. 직접측량비
A5: 가. 직접인건비
A6: 나. 직접경비
A7: 1) 여비
A8: 2) 기기상각비 및 정비비
A9: 3) 안전관련비
A10: 2. 간접측량비
A11: 가. 제경비
A12: 나. 기술료
A13: 3. 부가가치세
A14: ○ 중력측량(단위설계표)
A15: 1. 계획준비
A16: 가. 직접인건비 | C16: 점 | D16: 72
A17: 2. 선점
A18: □ 통합기준점, 수준점
A19: 가. 직접인건비 | C19: 점 | D19: 72
A20: 나. 직접경비
A21: 1) 여비 | C21: 점 | D21: 72
A22: □ 삼각점
A23: 가. 직접인건비 | C23: 점 | D23: 0
A24: 나. 직접경비
A25: 1) 여비 | C25: 점 | D25: 0
A26: 3. 관측
A27: □ 통합기준점, 수준점
A28: 가. 직접인건비 | C28: 점 | D28: 72
A29: 나. 직접경비
A30: 1) 여비 | C30: 점 | D30: 72
A31: 2) 기기상각비 및 정비비 | C31: 점 | D31: 72
A32: □ 삼각점
A33: 가. 직접인건비 | C33: 점 | D33: 0
A34: 나. 직접경비
A35: 1) 여비 | C35: 점 | D35: 0
A36: 2) 기기상각비 및 정비비 | C36: 점 | D36: 0
A37: □ 안전관련비 | C37: 조 | D37: 2
A38: 4. 계산
A39: 가. 직접인건비 | C39: 점 | D39: 72
A40: 5. 정리점검
A41: 가. 직접인건비 | C41: 점 | D41: 72
A42: ○ 중력측량(단가표)
A43: 1. 계획준비(1점당)
A44: 가. 직접인건비
A45: · 특급기술자 | C45: 인 | D45: 0.07
A46: · 초급기술자 | C46: 인 | D46: 0.07
A47: 2. 선점(1점당)
A48: □ 통합기준점, 수준점
A49: 가. 직접인건비
A50: · 고급기술자 | C50: 인 | D50: 0.06
A51: · 중급기술자 | C51: 인 | D51: 0.06
A52: 나. 직접경비
A53: 1) 여비
A54: · 고급기술자 | C54: 인 | D54: 0.06
A55: · 중급기술자 | C55: 인 | D55: 0.06
A56: □ 삼각점
A57: 가. 직접인건비
A58: · 고급기술자 | C58: 인 | D58: 0.15
A59: · 중급기술자 | C59: 인 | D59: 0.15
A60: 나. 직접경비
A61: 1) 여비
A62: · 고급기술자 | C62: 인 | D62: 0.15
A63: · 중급기술자 | C63: 인 | D63: 0.15
A64: 3. 관측(1점당)
A65: □ 통합기준점, 수준점
A66: 가. 직접인건비
A67: · 특급기술자 | C67: 인 | D67: 0.2
A68: · 중급기술자 | C68: 인 | D68: 0.2
A69: 나. 직접경비
A70: 1) 여비
A71: · 특급기술자 | C71: 인 | D71: 0.2
A72: · 중급기술자 | C72: 인 | D72: 0.2
A73: 2) 기기정비비 및 상각비 | C73: 일 | D73: 0.2
A74: □ 삼각점
A75: 가. 직접인건비
A76: · 특급기술자 | C76: 인 | D76: 0.5
A77: · 중급기술자 | C77: 인 | D77: 0.5
A78: 나. 직접경비
A79: 1) 여비
A80: · 특급기술자 | C80: 인 | D80: 0.5
A81: · 중급기술자 | C81: 인 | D81: 0.5
A82: 2) 기기정비비 및 상각비 | C82: 일 | D82: 0.5
A83: □ 안전관련비(1조당)
A84: · 안전조끼 | C84: 인 | D84: 2
A85: · 교통신호봉 | C85: 인 | D85: 1
A86: · 안전교육 | C86: 인 | D86: 2
A87: 4. 계산(1점당)
A88: 가. 직접인건비
A89: · 고급기술자 | C89: 인 | D89: 0.07
A90: · 중급기술자 | C90: 인 | D90: 0.07
A91: 5. 정리점검(1점당)
A92: 가. 직접인건비
A93: · 특급기술자 | C93: 인 | D93: 0.07
A94: · 초급기술자 | C94: 인 | D94: 0.07

Sheet 사업량 및 산출기초
A1: 1. 중력장비 상각비 및 정비비 산출
A3: 가. 중력측량 장비(2026 표준품셈 p.516, 9-5-8 상각비 산정, GPS측량기 준용)
B5: ㅇ 2009년 조사 대당 평균가격 : | E5: 95115000 | F5: 원
B6: - 상각비 = (가격 × 0.9) ÷ (8년 × 220일) = ( | F6: =E5 -> 95115000 | G6: 원 × 0.9 ) | H6: ÷ (8년 × | I6: 220 일 ) | J6: = | K6: =ROUNDDOWN(((F6*0.9)/(8*220)),0) -> 48638 | L6: 원/일·대
B7: - 정비비 = (가격 × 0.5) ÷ (8년 × 220일) = ( | F7: =E5 -> 95115000 | G7: 원 × 0.5 ) | H7: ÷ (8년 × | I7: 220 일 ) | J7: = | K7: =ROUNDDOWN(((E5*0.5)/(8*220)),0) -> 27021 | L7: 원/일·대
B8: ㅇ 1일당 중력계 장비 기기상각비 및 정비비 = | F8: =K6+K7 -> 75659 | G8: 원 × 1 | H8: 대 = | I8: =F8*1 -> 75659 | J8: 원

Sheet 노임단가
A1: 2. 2026년 적용 측량기술자 노임단가(한국공간정보산업협회)
A3: 구 분 | D3: 단가(원) | E3: 비 고
A4: 기술계 | B4: 기술사 | D4: 442679
B5: 특급기술자 | D5: 326774
B6: 고급기술자 | D6: 289265
B7: 중급기술자 | D7: 251596
B8: 초급기술자 | D8: 215609
A9: 기능계 | B9: 측량 | C9: 고급기능사 | D9: 259647
C10: 중급기능사 | D10: 235899
C11: 초급기능사 | D11: 200786
B12: 지도제작 | C12: 고급기능사 | D12: 268435
C13: 중급기능사 | D13: 242957
C14: 초급기능사 | D14: 198089
B15: 도화 | C15: 고급기능사 | D15: 300967
C16: 중급기능사 | D16: 236885
C17: 초급기능사 | D17: 229483
B18: 항공사진 | C18: 고급기능사 | D18: 299990
C19: 중급기능사 | D19: 270554
C20: 초급기능사 | D20: 237664
A21: 기 타 | B21: 사업용조종사 | D21: 313877
B22: 항법사 | D22: 303861
B23: 항공정비사 | D23: 288757
B24: 측부
A26: 여비(원) | D26: 장비비 및 안전관련비(원)
D27: 내역 | E27: 단위
A28: 특급 | B28: 95000 | C28: 원 | D28: · 중력계 | E28: 대 | F28: 95115000 | G28: 2009 물가조사 거례실례가격조사
A29: 고급 | B29: =B28 -> 95000 | C29: 원 | D29: · 안전조끼 | E29: 인 | F29: 5400 | G29: 다수 견적
A30: 중급 | B30: =B28 -> 95000 | C30: 원 | D30: · 교통신호봉 | E30: 인 | F30: 11100 | G30: 26년1월 월간거래가격 p.1443
A31: 초급및기타 | B31: =B28 -> 95000 | C31: 원 | D31: · 안전교육 | E31: 인 | F31: 18182 | G31: 다수 견적

Sheet 사업물량
A1: 연번 | B1: 명칭 | C1: 구분 | D1: 도엽 | E1: 위도 | F1: 경도 | G1: 표고 | H1: 사업지구
A2: 1 | B2: 01-00-27-01 | C2: 수준점 | D2: 영암 | E2: 34.994222 | F2: 126.71425 | G2: 15.3478 | H2: 남부지구
A3: 2 | B3: 01-00-28-23 | C3: 수준점 | D3: 독산 | E3: 35.071278 | F3: 127.12575 | G3: 128.9649 | H3: 남부지구
A4: 3 | B4: 01-01-00-00 | C4: 수준점 | D4: 광주 | E4: 35.055667 | F4: 126.99208 | G4: 63.7537 | H4: 남부지구
A5: 4 | B5: 01-07-15-01 | C5: 수준점 | D5: 복내 | E5: 34.967278 | F5: 127.20775 | G5: 162.519 | H5: 남부지구
A6: 5 | B6: 01-08-16-11 | C6: 수준점 | D6: 순천 | E6: 34.850611 | F6: 127.33811 | G6: 6.1001 | H6: 남부지구
A7: 6 | B7: 01-10-22-09 | C7: 수준점 | D7: 구례 | E7: 35.160389 | F7: 127.45697 | G7: 34.1318 | H7: 남부지구
A8: 7 | B8: 01-12-00 | C8: 수준점 | D8: 나주 | E8: 35.02375 | F8: 126.62336 | G8: 16.2563 | H8: 남부지구
A9: 8 | B9: 01-12-26-09 | C9: 수준점 | D9: 광주 | E9: 35.18975 | F9: 126.93464 | G9: 63.8893 | H9: 남부지구
A10: 9 | B10: 03-43-00 | C10: 수준점 | D10: 곤양 | E10: 35.078 | F10: 127.78811 | G10: 10.5731 | H10: 남부지구
A11: 10 | B11: 06-07-01 | C11: 수준점 | D11: 함안 | E11: 35.185264 | F11: 128.28534 | G11: 32.7776 | H11: 남부지구
A12: 11 | B12: 13-02-07-06 | C12: 수준점 | D12: 나주 | E12: 35.162028 | F12: 126.67297 | G12: 34.7269 | H12: 남부지구
A13: 12 | B13: 14-03-14-03 | C13: 수준점 | D13: 해남 | E13: 34.584583 | F13: 126.54183 | G13: 4.4739 | H13: 남부지구
... A73: 72 | B73: 제주도원점 | C73: 수준점 | D73: 제주 | E73: 33.513472 | F73: 126.52131 | G73: 11.1319 | H73: 남부지구

Sheet 업무량과 여유
A1: ○ 중력측량 | B1: 물량 | C1: 단위 | D1: 작업량
A2: 1. 계획준비 | F2: 일수
A3: · 특급기술자 | B3: =설계!D16 -> 72 | C3: =설계!D45 -> 0.07 | D3: =B3*C3 -> 5.04 | F3: 30 | H3: 특 | I3: =F3+F9+F15 -> 240 | K3: =F3+F6+F9+F12+F15 -> 420
A4: · 초급기술자 | B4: =B3 -> 72 | C4: =C3 -> 0.07 | D4: =D3 -> 5.04 | F4: =F3 -> 30 | H4: 고 | I4: =F6+F12 -> 180
A5: 2. 선점 | H5: 중 | I5: =F7+F10+F13 -> 360
A6: · 고급기술자 | B6: =B4 -> 72 | C6: =설계!D50 -> 0.06 | D6: =C6*B6 -> 4.32 | F6: 60 | H6: 초 | I6: =F4+F16 -> 60
A7: · 중급기술자 | B7: =B6 -> 72 | C7: =C6 -> 0.06 | D7: =D6 -> 4.32 | F7: =F6 -> 60
A8: 3. 관측
A9: · 특급기술자 | B9: =B7 -> 72 | C9: =설계!D67 -> 0.2 | D9: =B9*C9 -> 14.4 | F9: 180
A10: · 중급기술자 | B10: =B9 -> 72 | C10: =C9 -> 0.2 | D10: =D9 -> 14.4 | F10: =F9 -> 180
A11: 4. 계산
A12: · 고급기술자 | B12: =B4 -> 72 | C12: =설계!D89 -> 0.07 | D12: =B12*C12 -> 5.04 | F12: 120
A13: · 중급기술자 | B13: =B4 -> 72 | C13: =C12 -> 0.07 | D13: =B13*C13 -> 5.04 | F13: =F12 -> 120
A14: 5. 정리점검
A15: · 특급기술자 | B15: =B3 -> 72 | C15: =설계!D93 -> 0.07 | D15: =B15*C15 -> 5.04 | F15: 30
A16: · 초급기술자 | B16: =B3 -> 72 | C16: =C15 -> 0.07 | D16: =D15 -> 5.04 | F16: =F15 -> 30
B19: 작업량계 | C19: 투입일수 | D19: 인원 | E19: 올림 | F19: 현재업무량과여유
A20: 특급 | B20: =D3+D9+D15 -> 24.48 | C20: =I3 -> 240 | D20: =B20/C20 -> 0.102 | E20: =ROUNDUP(D20,0) -> 1 | F20: =ROUNDUP(E20/2,0) -> 1
A21: 고급 | B21: =D6+D12 -> 9.36 | C21: =I4 -> 180 | D21: =B21/C21 -> 0.052 | E21: =ROUNDUP(D21,0) -> 1 | F21: =ROUNDUP(E21/2,0) -> 1
A22: 중급 | B22: =D7+D10+D13 -> 23.76 | C22: =I5 -> 360 | D22: =B22/C22 -> 0.066 | E22: =ROUNDUP(D22,0) -> 1 | F22: =ROUNDUP(E22/2,0) -> 1
A23: 초급 | B23: =D4+D16 -> 10.08 | C23: =I6 -> 60 | D23: =B23/C23 -> 0.168 | E23: =ROUNDUP(D23,0) -> 1 | F23: =ROUNDUP(E23/2,0) -> 1
